BEGIN:VCALENDAR
PRODID:-//eluceo/ical//2.0/EN
VERSION:2.0
CALSCALE:GREGORIAN
BEGIN:VEVENT
UID:aa012958b7500415bb7eee6518459caf
DTSTAMP:20260423T232250Z
SUMMARY:Lunch im Hotel Stoffel
DESCRIPTION:Webseite: https://hotelstoffel.ch/
URL:https://arosa.rotary2000.ch/de/agenda/show/158911
DTSTART;TZID=Europe/Zurich:20230614T121500
DTEND;TZID=Europe/Zurich:20230614T121500
LOCATION:Hotel Stoffel Arosa
CATEGORIES:Rotary
END:VEVENT
BEGIN:VTIMEZONE
TZID:Europe/Zurich
BEGIN:DAYLIGHT
DTSTART:20230614T121500
TZNAME:CEST
TZOFFSETTO:+0200
TZOFFSETFROM:+0200
END:DAYLIGHT
END:VTIMEZONE
END:VCALENDAR
